BEGIN:VCALENDAR
VERSION:2.0
PRODID:-//https://www.ischiaeventi.com///NONSGML kigkonsult.se iCalcreator 2.10.15//
METHOD:PUBLISH
BEGIN:VEVENT
UID:20260424T135714UTC-8775HhHJzc@https://www.ischiaeventi.com/
DTSTAMP:20260424T135714Z
DESCRIPTION:Un incredibile show tra trasformismo\, comicità e magia per tut
 ta la famiglia!\n&nbsp\; https://www.ischiaeventi.com/eventi-ad-ischia/tra
 dizioni/societa/evento/81006-festeggiamenti-in-onore-di-san-vito-luca-lomb
 ardo-in-magichite
DTSTART:20250616T190000Z
DTEND:20250616T203000Z
LOCATION:Porto di Forio (Porto di Forio\, 80075 Forio NA\, Italia)
SUMMARY:Festeggiamenti in onore di San Vito: Luca Lombardo in MAGICHITE
URL:https://www.ischiaeventi.com/eventi-ad-ischia/tradizioni/societa/evento
 /81006-festeggiamenti-in-onore-di-san-vito-luca-lombardo-in-magichite
END:VEVENT
END:VCALENDAR
