BEGIN:VCALENDAR
VERSION:2.0
PRODID:-//https://www.ischiaeventi.com///NONSGML kigkonsult.se iCalcreator 2.10.15//
METHOD:PUBLISH
BEGIN:VEVENT
UID:20260424T155214UTC-4690HlFu11@https://www.ischiaeventi.com/
DTSTAMP:20260424T155214Z
DESCRIPTION:OMAGGIO AD EDUARDO DE FILIPPO spettacolo canoro-teatrale in oma
 ggio e alla persona del grande drammaturgo italiano Eduardo De Filippo nel
  40° anno dalla sua morte: poesie\, aneddoti\, canzoni e momenti teatrali 
 nella Chiesa Santa Maria di Loreto in Forio https://www.ischiaeventi.com/e
 venti-ad-ischia/tradizioni/societa/evento/34289-forio-merryland-omaggio-ad
 -eduardo-de-filippo
DTSTART:20241230T200000Z
DTEND:20241230T220000Z
LOCATION:Comune di Forio (Piazza Municipio\, 1\, 80075 Forio NA\, Italia)
SUMMARY:Forio MerryLand: OMAGGIO AD EDUARDO DE FILIPPO
URL:https://www.ischiaeventi.com/eventi-ad-ischia/tradizioni/societa/evento
 /34289-forio-merryland-omaggio-ad-eduardo-de-filippo
END:VEVENT
END:VCALENDAR
