BEGIN:VCALENDAR
VERSION:2.0
PRODID:-//https://www.ischiaeventi.com///NONSGML kigkonsult.se iCalcreator 2.10.15//
METHOD:PUBLISH
BEGIN:VEVENT
UID:20260424T135630UTC-3624DHv2iU@https://www.ischiaeventi.com/
DTSTAMP:20260424T135630Z
DESCRIPTION: PRESEPE VIVENTE XI Edizione suggestiva scena della natività co
 n allestimento di antiche botteghe in ricordo di vecchi mestieri e tradizi
 oni nel centro di Panza&nbsp\; https://www.ischiaeventi.com/eventi-ad-isch
 ia/tradizioni/societa/evento/34287-forio-merryland-presepe-vivente-xi-ediz
 ione
DTSTART:20241230T150000Z
DTEND:20241230T170000Z
LOCATION:Comune di Forio (Piazza Municipio\, 1\, 80075 Forio NA\, Italia)
SUMMARY:Forio MerryLand: PRESEPE VIVENTE XI Edizione
URL:https://www.ischiaeventi.com/eventi-ad-ischia/tradizioni/societa/evento
 /34287-forio-merryland-presepe-vivente-xi-edizione
END:VEVENT
END:VCALENDAR
