BEGIN:VCALENDAR
VERSION:2.0
PRODID:-//https://www.ischiaeventi.com///NONSGML kigkonsult.se iCalcreator 2.10.15//
METHOD:PUBLISH
BEGIN:VEVENT
UID:20260424T201101UTC-5417ue0JNH@https://www.ischiaeventi.com/
DTSTAMP:20260424T201101Z
DESCRIPTION:Domenica 20 aprile - DOMENICA DI PASQUA\n10.15 Messa in p.zza M
 unicipio\n&nbsp\; https://www.ischiaeventi.com/eventi-ad-ischia/tradizioni
 /societa/evento/28901-santa-messa-di-pasqua-a-forio
DTSTART:20250420T081500Z
DTEND:20250420T100000Z
LOCATION:Piazza Municipio\, Forio (Piazza Municipio\, 9\, 80075 Forio NA\, 
 Italia)
SUMMARY:Santa messa di Pasqua a Forio
URL:https://www.ischiaeventi.com/eventi-ad-ischia/tradizioni/societa/evento
 /28901-santa-messa-di-pasqua-a-forio
END:VEVENT
END:VCALENDAR
