BEGIN:VCALENDAR
VERSION:2.0
PRODID:-//https://www.ischiaeventi.com///NONSGML kigkonsult.se iCalcreator 2.10.15//
METHOD:PUBLISH
BEGIN:VEVENT
UID:20260424T152941UTC-9046v9Lmlr@https://www.ischiaeventi.com/
DTSTAMP:20260424T152941Z
DESCRIPTION:18.00 Modern Singing Show concerto degli Allievi di Canto Moder
 no dell’Accademia T.C.A. a cura di Giovanni Apetino in Piazza Municipio&nb
 sp\; https://www.ischiaeventi.com/eventi-ad-ischia/tradizioni/societa/even
 to/249369-natale-a-forio-2025-modern-singing-show
DTSTART:20251222T170000Z
DTEND:20251222T190000Z
LOCATION:Piazza Medaglia d'oro (San Gaetano) (Piazza Luca Balsofiore\, 8\, 
 80075 Forio NA\, Italy)
SUMMARY:Natale a Forio 2025: Modern Singing Show
URL:https://www.ischiaeventi.com/eventi-ad-ischia/tradizioni/societa/evento
 /249369-natale-a-forio-2025-modern-singing-show
END:VEVENT
END:VCALENDAR
