BEGIN:VCALENDAR
VERSION:2.0
PRODID:-//https://www.ischiaeventi.com///NONSGML kigkonsult.se iCalcreator 2.10.15//
METHOD:PUBLISH
BEGIN:VEVENT
UID:20260424T155041UTC-51832e5vUe@https://www.ischiaeventi.com/
DTSTAMP:20260424T155041Z
DESCRIPTION:OTTO LIVE: MUSICA DAL VIVO CON LE CANZONI DEL MUSICISTA FORIANO
  IN ARTE OTTO https://www.ischiaeventi.com/eventi-ad-ischia/tradizioni/soc
 ieta/evento/124235-estate-forio-2025-otto-live
DTSTART:20250805T190000Z
DTEND:20250805T215900Z
LOCATION:Vico San Gaetano\, Forio (Via Cesare Piro\, 10\, 80075 Forio NA\, 
 Italia)
SUMMARY:Estate Forio 2025: Otto live
URL:https://www.ischiaeventi.com/eventi-ad-ischia/tradizioni/societa/evento
 /124235-estate-forio-2025-otto-live
END:VEVENT
END:VCALENDAR
