BEGIN:VCALENDAR
VERSION:2.0
PRODID:-//https://www.ischiaeventi.com///NONSGML kigkonsult.se iCalcreator 2.10.15//
METHOD:PUBLISH
BEGIN:VEVENT
UID:20260424T053230UTC-5306DnvRBX@https://www.ischiaeventi.com/
DTSTAMP:20260424T053230Z
DESCRIPTION:Tutti i martedì apertura straordinaria serale fino alle 23 http
 s://www.ischiaeventi.com/eventi-ad-ischia/tradizioni/rappresentazioni-arti
 stiche/evento/97656-una-notte-al-museo
DTSTART:20250805T084500Z
DTEND:20250805T210000Z
LOCATION:Museo Archeologico Pithecusa (Corso Angelo Rizzoli\, 210\, 80076 L
 acco Ameno NA\, Italia)
SUMMARY:Una notte al museo
URL:https://www.ischiaeventi.com/eventi-ad-ischia/tradizioni/rappresentazio
 ni-artistiche/evento/97656-una-notte-al-museo
END:VEVENT
END:VCALENDAR
