BEGIN:VCALENDAR
VERSION:2.0
PRODID:-//https://www.ischiaeventi.com///NONSGML kigkonsult.se iCalcreator 2.10.15//
METHOD:PUBLISH
BEGIN:VEVENT
UID:20260424T060703UTC-3161NUKvVL@https://www.ischiaeventi.com/
DTSTAMP:20260424T060703Z
DESCRIPTION:Mostra Veranica Acunto\nIngresso Libero\n&nbsp\; https://www.is
 chiaeventi.com/eventi-ad-ischia/tradizioni/rappresentazioni-artistiche/eve
 nto/68463-mostra-veronica-acunto
DTSTART:20250423T173000Z
DTEND:20250423T190000Z
LOCATION:Villa Arbusto (Corso Angelo Rizzoli\, 194\, 80076 Lacco Ameno NA\,
  Italia)
SUMMARY:Mostra Veronica Acunto
URL:https://www.ischiaeventi.com/eventi-ad-ischia/tradizioni/rappresentazio
 ni-artistiche/evento/68463-mostra-veronica-acunto
END:VEVENT
END:VCALENDAR
