BEGIN:VCALENDAR
VERSION:2.0
PRODID:-//https://www.ischiaeventi.com///NONSGML kigkonsult.se iCalcreator 2.10.15//
METHOD:PUBLISH
BEGIN:VEVENT
UID:20260424T053316UTC-3465s6uuFd@https://www.ischiaeventi.com/
DTSTAMP:20260424T053316Z
DESCRIPTION:Mostra Veranica Acunto\nIngresso Libero\n&nbsp\; https://www.is
 chiaeventi.com/eventi-ad-ischia/tradizioni/rappresentazioni-artistiche/eve
 nto/68458-mostra-veronica-acunto
DTSTART:20250418T173000Z
DTEND:20250418T190000Z
LOCATION:Villa Arbusto (Corso Angelo Rizzoli\, 194\, 80076 Lacco Ameno NA\,
  Italia)
SUMMARY:Mostra Veronica Acunto
URL:https://www.ischiaeventi.com/eventi-ad-ischia/tradizioni/rappresentazio
 ni-artistiche/evento/68458-mostra-veronica-acunto
END:VEVENT
END:VCALENDAR
