BEGIN:VCALENDAR
VERSION:2.0
PRODID:-//https://www.ischiaeventi.com///NONSGML kigkonsult.se iCalcreator 2.10.15//
METHOD:PUBLISH
BEGIN:VEVENT
UID:20260424T064849UTC-4689xg2oKz@https://www.ischiaeventi.com/
DTSTAMP:20260424T064849Z
DESCRIPTION:PRIMI VESPRI DELLA FESTA DEL SANTOGIORNATA DEI BAMBINI E DELL'A
 MMALATOOre 16.00 Incontro con il predicatore e penitenziale per tutti i ba
 mbini del catechismo\;Ore 17.00 Esposizione EucaristicaOre 17.45 Benedizio
 ne Eucaristica e Coroncina al SantoOre 18.00 Santa Messa e Rito dell'Unzio
 ne degli infermiAl termine imposizione dello scapolare di San Ciro https:/
 /www.ischiaeventi.com/eventi-ad-ischia/tradizioni/rappresentazioni-artisti
 che/evento/41548-festeggiamenti-in-onore-di-san-ciro-giornata-dei-bambini-
 e-dellammalato
DTSTART:20250130T150000Z
DTEND:20250130T180000Z
LOCATION:Località Il Ciglio - Ischia (Via Ciglio\, 126\, 80070 Serrara Font
 ana NA\, Italia)
SUMMARY:Festeggiamenti in onore di San Ciro: GIORNATA DEI BAMBINI E DELL'AM
 MALATO
URL:https://www.ischiaeventi.com/eventi-ad-ischia/tradizioni/rappresentazio
 ni-artistiche/evento/41548-festeggiamenti-in-onore-di-san-ciro-giornata-de
 i-bambini-e-dellammalato
END:VEVENT
END:VCALENDAR
