BEGIN:VCALENDAR
VERSION:2.0
PRODID:-//https://www.ischiaeventi.com///NONSGML kigkonsult.se iCalcreator 2.10.15//
METHOD:PUBLISH
BEGIN:VEVENT
UID:20260424T060427UTC-4108XGVju3@https://www.ischiaeventi.com/
DTSTAMP:20260424T060427Z
DESCRIPTION:Percorso archeologico\, ‘architettonico e di cultura immaterial
 e da Villa Arbusto e lungo il centro storico a cura della dott.ssa Mariang
 ela Catuogno https://www.ischiaeventi.com/eventi-ad-ischia/tradizioni/rapp
 resentazioni-artistiche/evento/38251-lacco-ameno-in-canti-di-natale-laccon
 art---ti-porto-lo
DTSTART:20250104T093000Z
DTEND:20250104T110000Z
LOCATION:Villa Arbusto (Corso Angelo Rizzoli\, 194\, 80076 Lacco Ameno NA\,
  Italia)
SUMMARY:Lacco Ameno In-canti di Natale: Lacconart — Ti Porto lo
URL:https://www.ischiaeventi.com/eventi-ad-ischia/tradizioni/rappresentazio
 ni-artistiche/evento/38251-lacco-ameno-in-canti-di-natale-lacconart---ti-p
 orto-lo
END:VEVENT
END:VCALENDAR
