BEGIN:VCALENDAR
VERSION:2.0
PRODID:-//https://www.ischiaeventi.com///NONSGML kigkonsult.se iCalcreator 2.10.15//
METHOD:PUBLISH
BEGIN:VEVENT
UID:20260424T060353UTC-6131fNAvbU@https://www.ischiaeventi.com/
DTSTAMP:20260424T060353Z
DESCRIPTION:Con la partecipazione straordinaria di Babbo Natale.\nIntratten
 imento per bambini e attrazioni natalizie con gonfiabili\, teatrino delle 
 marionette\, mascotte\, baby dance\, pop com\, giochi e laboratori a cura 
 di “Azzurra Spettacoli' https://www.ischiaeventi.com/eventi-ad-ischia/trad
 izioni/rappresentazioni-artistiche/evento/38239-lacco-ameno-in-canti-di-na
 tale-villaggio-rosso-natale
DTSTART:20241220T133000Z
DTEND:20241220T173000Z
LOCATION:Piazza Santa Restituta  (Piazza Santa Restituta\, 80076 Lacco Amen
 o NA\, Italia)
SUMMARY:Lacco Ameno In-canti di Natale: Villaggio Rosso Natale!
URL:https://www.ischiaeventi.com/eventi-ad-ischia/tradizioni/rappresentazio
 ni-artistiche/evento/38239-lacco-ameno-in-canti-di-natale-villaggio-rosso-
 natale
END:VEVENT
END:VCALENDAR
