BEGIN:VCALENDAR
VERSION:2.0
PRODID:-//https://www.ischiaeventi.com///NONSGML kigkonsult.se iCalcreator 2.10.15//
METHOD:PUBLISH
BEGIN:VEVENT
UID:20260424T082105UTC-2919UDntfr@https://www.ischiaeventi.com/
DTSTAMP:20260424T082105Z
DESCRIPTION:NEW YEAR’S EVE BRUNCH il famoso brunch foriano con musica diffu
 sa e assaggi delle nostre specialità gastronomiche per le strade del paese
  a cura dei ristoratori locali https://www.ischiaeventi.com/eventi-ad-isch
 ia/tradizioni/rappresentazioni-artistiche/evento/34291-forio-merryland-new
 -years-eve-brunch
DTSTART:20241231T110000Z
DTEND:20241231T130000Z
LOCATION:Comune di Forio (Piazza Municipio\, 1\, 80075 Forio NA\, Italia)
SUMMARY:Forio MerryLand: NEW YEAR’S EVE BRUNCH  
URL:https://www.ischiaeventi.com/eventi-ad-ischia/tradizioni/rappresentazio
 ni-artistiche/evento/34291-forio-merryland-new-years-eve-brunch
END:VEVENT
END:VCALENDAR
