BEGIN:VCALENDAR
VERSION:2.0
PRODID:-//https://www.ischiaeventi.com///NONSGML kigkonsult.se iCalcreator 2.10.15//
METHOD:PUBLISH
BEGIN:VEVENT
UID:20260424T053039UTC-3587OP1jdL@https://www.ischiaeventi.com/
DTSTAMP:20260424T053039Z
DESCRIPTION:15.30 CACCIA LA TESORO ALICE NEL PAESE DELLE MERAVIGLIE un gioc
 o dove i bambini riceveranno indizi per avvicinarsi alla destinazione pass
 o dopo passo fino a raggiungere il tesoro per il centro di Forio https://w
 ww.ischiaeventi.com/eventi-ad-ischia/tradizioni/rappresentazioni-artistich
 e/evento/34110-forio-merryland-caccia-la-tesoro-alice-nel-paese-delle-mera
 viglie
DTSTART:20241223T143000Z
DTEND:20241223T170000Z
LOCATION:Comune di Forio (Piazza Municipio\, 1\, 80075 Forio NA\, Italia)
SUMMARY:Forio MerryLand: CACCIA LA TESORO ALICE NEL PAESE DELLE MERAVIGLIE
URL:https://www.ischiaeventi.com/eventi-ad-ischia/tradizioni/rappresentazio
 ni-artistiche/evento/34110-forio-merryland-caccia-la-tesoro-alice-nel-paes
 e-delle-meraviglie
END:VEVENT
END:VCALENDAR
