BEGIN:VCALENDAR
VERSION:2.0
PRODID:-//https://www.ischiaeventi.com///NONSGML kigkonsult.se iCalcreator 2.10.15//
METHOD:PUBLISH
BEGIN:VEVENT
UID:20260424T064828UTC-6949kK8uI8@https://www.ischiaeventi.com/
DTSTAMP:20260424T064828Z
DESCRIPTION:20.30 THE VOICE KIDS &amp\; SENIORS gara canora tra adulti e ba
 mbini con una serata all’insegna dei nostri talenti locali in Piazza Santa
  Lucia in Forio https://www.ischiaeventi.com/eventi-ad-ischia/tradizioni/r
 appresentazioni-artistiche/evento/34090-forio-merryland-the-voice-kids-sen
 iors
DTSTART:20241213T193000Z
DTEND:20241213T213000Z
LOCATION:Comune di Forio (Piazza Municipio\, 1\, 80075 Forio NA\, Italia)
SUMMARY:Forio MerryLand: THE VOICE KIDS & SENIORS
URL:https://www.ischiaeventi.com/eventi-ad-ischia/tradizioni/rappresentazio
 ni-artistiche/evento/34090-forio-merryland-the-voice-kids-seniors
END:VEVENT
END:VCALENDAR
