BEGIN:VCALENDAR
VERSION:2.0
PRODID:-//https://www.ischiaeventi.com///NONSGML kigkonsult.se iCalcreator 2.10.15//
METHOD:PUBLISH
BEGIN:VEVENT
UID:20260424T060355UTC-2357Swzr5d@https://www.ischiaeventi.com/
DTSTAMP:20260424T060355Z
DESCRIPTION:II' Edizione Santa messa in suffragio di Angelo Rizzoli a 54 an
 ni dalla sua scomparsa Progetto incluso nel cartellone degli Eventi Metrop
 olitani https://www.ischiaeventi.com/eventi-ad-ischia/tradizioni/rappresen
 tazioni-artistiche/evento/32319-estate-insieme-lacco-ameno-omaggio-ad-ange
 lo-rizzoli
DTSTART:20240924T160000Z
DTEND:20240924T183000Z
LOCATION:Villa Arbusto (Corso Angelo Rizzoli\, 194\, 80076 Lacco Ameno NA\,
  Italia)
SUMMARY:Estate insieme Lacco Ameno: OMAGGIO AD ANGELO RIZZOLI
URL:https://www.ischiaeventi.com/eventi-ad-ischia/tradizioni/rappresentazio
 ni-artistiche/evento/32319-estate-insieme-lacco-ameno-omaggio-ad-angelo-ri
 zzoli
END:VEVENT
END:VCALENDAR
