BEGIN:VCALENDAR
VERSION:2.0
PRODID:-//https://www.ischiaeventi.com///NONSGML kigkonsult.se iCalcreator 2.10.15//
METHOD:PUBLISH
BEGIN:VEVENT
UID:20260424T060153UTC-0983TVd8G4@https://www.ischiaeventi.com/
DTSTAMP:20260424T060153Z
DESCRIPTION:&nbsp\;TRIBUTE TO COLTRANECHICO FREEMAN - SAX TENORE MAKAR NOVI
 KOV - CONTRABBASSO ANTONIO FARAO' - PIANO PASQUALE FIORE - BATTERIAEURO 40
 \,00 INCL. PREV.\nAbbonamenti alle serate 100 euro\nPREVENDITENEGOMBO 0819
 86152LIBRERIA IMAGAENARIA 081985632RVSTICA DOMVS 081992100TICKET ONLINEWWW
 .AZZURROSERVICE.NET INFO: 3358110629 WWW.PIANOEJAZZ.IT https://www.ischiae
 venti.com/eventi-ad-ischia/tradizioni/rappresentazioni-artistiche/evento/3
 1901-piano-jazz-ischia-antonio-farao-quartet-feat-chico-freeman
DTSTART:20240830T200000Z
DTEND:20240830T215900Z
LOCATION:Auditorium Leonardo Carriero (Via Onofrio Messer 47\, 80076\, Lacc
 o Ameno\, Napoli)
SUMMARY:Piano&Jazz Ischia: Antonio farao' quartet feat. Chico Freeman
URL:https://www.ischiaeventi.com/eventi-ad-ischia/tradizioni/rappresentazio
 ni-artistiche/evento/31901-piano-jazz-ischia-antonio-farao-quartet-feat-ch
 ico-freeman
END:VEVENT
END:VCALENDAR
