BEGIN:VCALENDAR
VERSION:2.0
PRODID:-//https://www.ischiaeventi.com///NONSGML kigkonsult.se iCalcreator 2.10.15//
METHOD:PUBLISH
BEGIN:VEVENT
UID:20260424T060135UTC-2232xvdHmc@https://www.ischiaeventi.com/
DTSTAMP:20260424T060135Z
DESCRIPTION:Solenne processione diocesana via mare dal pontile di Ischia Po
 nte a Ischia Porto (sparo della diana)\, nell'Arciconfrate- rnita\, al rie
 ntro della Statua dell'Incoronata\, Esposizione e Adorazione Eucaristica\,
  Canto del 'Te Deum' e Benedizione Eucaristica.Stand GastronomicoOre 22.00
  Concerto bandistico della banda musicale città di IschiaOre 00.00 Spettac
 olo di fuochi pirotecnici\, antistante il Castello Aragonese. https://www.
 ischiaeventi.com/eventi-ad-ischia/tradizioni/rappresentazioni-artistiche/e
 vento/31878-san-giovan-giuseppe-della-croce-solenne-processione-diocesana-
 via-mare-e-spettacolo-pirotecnico
DTSTART:20240902T163000Z
DTEND:20240902T215900Z
LOCATION:Piazzale delle Alghe (Via Boccaccio\, 1\, 80077 Ischia NA\, Italia
 )
SUMMARY:San Giovan Giuseppe della Croce: solenne processione diocesana via 
 mare e spettacolo pirotecnico
URL:https://www.ischiaeventi.com/eventi-ad-ischia/tradizioni/rappresentazio
 ni-artistiche/evento/31878-san-giovan-giuseppe-della-croce-solenne-process
 ione-diocesana-via-mare-e-spettacolo-pirotecnico
END:VEVENT
END:VCALENDAR
