BEGIN:VCALENDAR
VERSION:2.0
PRODID:-//https://www.ischiaeventi.com///NONSGML kigkonsult.se iCalcreator 2.10.15//
METHOD:PUBLISH
BEGIN:VEVENT
UID:20260424T053340UTC-7892vpbufV@https://www.ischiaeventi.com/
DTSTAMP:20260424T053340Z
DESCRIPTION:Il Canto delle sirene https://www.ischiaeventi.com/eventi-ad-is
 chia/tradizioni/rappresentazioni-artistiche/evento/31855-il-canto-delle-si
 rene
DTSTART:20240825T190000Z
DTEND:20240825T215900Z
LOCATION:Villa Arbusto (Corso Angelo Rizzoli\, 194\, 80076 Lacco Ameno NA\,
  Italia)
SUMMARY:Il Canto delle sirene
URL:https://www.ischiaeventi.com/eventi-ad-ischia/tradizioni/rappresentazio
 ni-artistiche/evento/31855-il-canto-delle-sirene
END:VEVENT
END:VCALENDAR
