BEGIN:VCALENDAR
VERSION:2.0
PRODID:-//https://www.ischiaeventi.com///NONSGML kigkonsult.se iCalcreator 2.10.15//
METHOD:PUBLISH
BEGIN:VEVENT
UID:20260424T060230UTC-7801iRxj0i@https://www.ischiaeventi.com/
DTSTAMP:20260424T060230Z
DESCRIPTION:IV edizione della serata a quattro zampe\nQuota partecipazione 
 10 euro a cane\nIscrizioni fino all' 8 agosto https://www.ischiaeventi.com
 /eventi-ad-ischia/tradizioni/rappresentazioni-artistiche/evento/31705-cart
 oon-edition-iv-edizione-della-serata-a-quattro-zampe
DTSTART:20240809T191500Z
DTEND:20240809T213400Z
LOCATION:Piazzale Largo San Domenico (Via Vecchia Cartaromana\, 80077 Ischi
 a NA\, Italia)
SUMMARY:Cartoon edition: IV edizione della serata a quattro zampe
URL:https://www.ischiaeventi.com/eventi-ad-ischia/tradizioni/rappresentazio
 ni-artistiche/evento/31705-cartoon-edition-iv-edizione-della-serata-a-quat
 tro-zampe
END:VEVENT
END:VCALENDAR
