BEGIN:VCALENDAR
VERSION:2.0
PRODID:-//https://www.ischiaeventi.com///NONSGML kigkonsult.se iCalcreator 2.10.15//
METHOD:PUBLISH
BEGIN:VEVENT
UID:20260424T055958UTC-48849t0ult@https://www.ischiaeventi.com/
DTSTAMP:20260424T055958Z
DESCRIPTION:Percorso nella storia della viticultura ischitana https://www.i
 schiaeventi.com/eventi-ad-ischia/tradizioni/rappresentazioni-artistiche/ev
 ento/31700-vino-sotto-le-stelle
DTSTART:20240810T191500Z
DTEND:20240810T213000Z
LOCATION:Piazzale Largo San Domenico (Via Vecchia Cartaromana\, 80077 Ischi
 a NA\, Italia)
SUMMARY:Vino sotto le stelle
URL:https://www.ischiaeventi.com/eventi-ad-ischia/tradizioni/rappresentazio
 ni-artistiche/evento/31700-vino-sotto-le-stelle
END:VEVENT
END:VCALENDAR
