BEGIN:VCALENDAR
VERSION:2.0
PRODID:-//https://www.ischiaeventi.com///NONSGML kigkonsult.se iCalcreator 2.10.15//
METHOD:PUBLISH
BEGIN:VEVENT
UID:20260424T093530UTC-8229in1PVv@https://www.ischiaeventi.com/
DTSTAMP:20260424T093530Z
DESCRIPTION:Summer Time Serrara: BELVEDERE AL CALAR DEL SOLE MUSICA CON DJ 
 TONY ROMANO https://www.ischiaeventi.com/eventi-ad-ischia/tradizioni/rappr
 esentazioni-artistiche/evento/31250-summer-time-serrara-belvedere-al-calar
 -del-sole-musica-con-dj-tony-romano
DTSTART:20240823T170000Z
DTEND:20240823T210000Z
LOCATION:Piazza Serrara (80070 Serrara Fontana NA\, Italia)
SUMMARY:Summer Time Serrara: BELVEDERE AL CALAR DEL SOLE MUSICA CON DJ TONY
  ROMANO
URL:https://www.ischiaeventi.com/eventi-ad-ischia/tradizioni/rappresentazio
 ni-artistiche/evento/31250-summer-time-serrara-belvedere-al-calar-del-sole
 -musica-con-dj-tony-romano
END:VEVENT
END:VCALENDAR
