BEGIN:VCALENDAR
VERSION:2.0
PRODID:-//https://www.ischiaeventi.com///NONSGML kigkonsult.se iCalcreator 2.10.15//
METHOD:PUBLISH
BEGIN:VEVENT
UID:20260424T093235UTC-3936SghSLV@https://www.ischiaeventi.com/
DTSTAMP:20260424T093235Z
DESCRIPTION:Summer Time Serrara: MUSICNIGHT CON DJ TONY ROMANO https://www.
 ischiaeventi.com/eventi-ad-ischia/tradizioni/rappresentazioni-artistiche/e
 vento/31240-summer-time-serrara-musicnight-con-dj-tony-romano
DTSTART:20240802T190000Z
DTEND:20240802T215200Z
LOCATION:Piazza Fontana (80070 Serrara Fontana NA\, Italia)
SUMMARY:Summer Time Serrara: MUSICNIGHT CON DJ TONY ROMANO
URL:https://www.ischiaeventi.com/eventi-ad-ischia/tradizioni/rappresentazio
 ni-artistiche/evento/31240-summer-time-serrara-musicnight-con-dj-tony-roma
 no
END:VEVENT
END:VCALENDAR
