BEGIN:VCALENDAR
VERSION:2.0
PRODID:-//https://www.ischiaeventi.com///NONSGML kigkonsult.se iCalcreator 2.10.15//
METHOD:PUBLISH
BEGIN:VEVENT
UID:20260424T062526UTC-92872Sv4E1@https://www.ischiaeventi.com/
DTSTAMP:20260424T062526Z
DESCRIPTION:Umberto Tozzi: Notte rosa tour\nBiglietti disponibili su ticket
 One https://www.ischiaeventi.com/eventi-ad-ischia/tradizioni/rappresentazi
 oni-artistiche/evento/30703-umberto-tozzi-notte-rosa-tour
DTSTART:20240809T190000Z
DTEND:20240809T215100Z
LOCATION:Parco Termale Negombo (Baia di S. Montano\, - 80076 Lacco Ameno NA
 \, Italia)
SUMMARY:Umberto Tozzi: Notte rosa tour
URL:https://www.ischiaeventi.com/eventi-ad-ischia/tradizioni/rappresentazio
 ni-artistiche/evento/30703-umberto-tozzi-notte-rosa-tour
END:VEVENT
END:VCALENDAR
