BEGIN:VCALENDAR
VERSION:2.0
PRODID:-//https://www.ischiaeventi.com///NONSGML kigkonsult.se iCalcreator 2.10.15//
METHOD:PUBLISH
BEGIN:VEVENT
UID:20260424T060152UTC-32513UBlVv@https://www.ischiaeventi.com/
DTSTAMP:20260424T060152Z
DESCRIPTION:Spettacolo pirotecnico in onore di Santa Resttiuta https://www.
 ischiaeventi.com/eventi-ad-ischia/tradizioni/rappresentazioni-artistiche/e
 vento/29722-spettacolo-pirotecnico-in-occasione-di-santa-restituta
DTSTART:20240518T215800Z
DTEND:20240518T215900Z
LOCATION:Marina di Lacco Ameno (Via Litoranea\, Lacco Ameno NA\, Italia)
SUMMARY:Spettacolo pirotecnico in occasione di Santa Restituta
URL:https://www.ischiaeventi.com/eventi-ad-ischia/tradizioni/rappresentazio
 ni-artistiche/evento/29722-spettacolo-pirotecnico-in-occasione-di-santa-re
 stituta
END:VEVENT
END:VCALENDAR
