BEGIN:VCALENDAR
VERSION:2.0
PRODID:-//https://www.ischiaeventi.com///NONSGML kigkonsult.se iCalcreator 2.10.15//
METHOD:PUBLISH
BEGIN:VEVENT
UID:20260424T080620UTC-3419HG29v3@https://www.ischiaeventi.com/
DTSTAMP:20260424T080620Z
DESCRIPTION:Il ricavato andrà a rifinanziare il servizio GRATUITO già attiv
 o da noi istituito e gestito dall ASS. Croce Rosa Ischia Soccorso. https:/
 /www.ischiaeventi.com/eventi-ad-ischia/tradizioni/rappresentazioni-artisti
 che/evento/29719-diamo-gusto-al-solidale
DTSTART:20240530T170000Z
DTEND:20240530T200000Z
LOCATION:Torre Guevara (Via Nuova Cartaromana\, 80077 Ischia NA\, Italia)
SUMMARY:Diamo gusto al solidale
URL:https://www.ischiaeventi.com/eventi-ad-ischia/tradizioni/rappresentazio
 ni-artistiche/evento/29719-diamo-gusto-al-solidale
END:VEVENT
END:VCALENDAR
