BEGIN:VCALENDAR
VERSION:2.0
PRODID:-//https://www.ischiaeventi.com///NONSGML kigkonsult.se iCalcreator 2.10.15//
METHOD:PUBLISH
BEGIN:VEVENT
UID:20260424T064720UTC-3456OBKiz7@https://www.ischiaeventi.com/
DTSTAMP:20260424T064720Z
DESCRIPTION:Nella straordinaria cornice del Centro Storico di Panza si esib
 iranno i MaLa Bazar\, per una serata all’insegna dei ricordi e della nosta
 lgia. https://www.ischiaeventi.com/eventi-ad-ischia/tradizioni/rappresenta
 zioni-artistiche/evento/29240-concerto-matia-bazar
DTSTART:20240427T183000Z
DTEND:20240427T214800Z
LOCATION:Panza (Piazza San Leonardo - 80075 Panza Forio)
SUMMARY:Concerto Matia Bazar
URL:https://www.ischiaeventi.com/eventi-ad-ischia/tradizioni/rappresentazio
 ni-artistiche/evento/29240-concerto-matia-bazar
END:VEVENT
END:VCALENDAR
