BEGIN:VCALENDAR
VERSION:2.0
PRODID:-//https://www.ischiaeventi.com///NONSGML kigkonsult.se iCalcreator 2.10.15//
METHOD:PUBLISH
BEGIN:VEVENT
UID:20260424T055818UTC-4447wOKD0c@https://www.ischiaeventi.com/
DTSTAMP:20260424T055818Z
DESCRIPTION:Capodanno a Ischia\, special guest Cristian Marchi https://www.
 ischiaeventi.com/eventi-ad-ischia/tradizioni/rappresentazioni-artistiche/e
 vento/27703-capodanno-a-ischia
DTSTART:20231231T223000Z
DTEND:20231231T225900Z
LOCATION:Piazza Antica Reggia (Piazza Antica Reggia\, 16\, 80077 Ischia NA\
 , Italia)
SUMMARY:Capodanno a Ischia
URL:https://www.ischiaeventi.com/eventi-ad-ischia/tradizioni/rappresentazio
 ni-artistiche/evento/27703-capodanno-a-ischia
END:VEVENT
END:VCALENDAR
