BEGIN:VCALENDAR
VERSION:2.0
PRODID:-//https://www.ischiaeventi.com///NONSGML kigkonsult.se iCalcreator 2.10.15//
METHOD:PUBLISH
BEGIN:VEVENT
UID:20260424T055815UTC-57512Du3jE@https://www.ischiaeventi.com/
DTSTAMP:20260424T055815Z
DESCRIPTION:28 Dicembre ore 20:30\nPiazza Antica Reggia https://www.ischiae
 venti.com/eventi-ad-ischia/tradizioni/rappresentazioni-artistiche/evento/2
 7701-le-vibrazioni
DTSTART:20231228T193000Z
DTEND:20231228T223300Z
LOCATION:Piazza Antica Reggia (Piazza Antica Reggia\, 16\, 80077 Ischia NA\
 , Italia)
SUMMARY:Le vibrazioni
URL:https://www.ischiaeventi.com/eventi-ad-ischia/tradizioni/rappresentazio
 ni-artistiche/evento/27701-le-vibrazioni
END:VEVENT
END:VCALENDAR
