BEGIN:VCALENDAR
VERSION:2.0
PRODID:-//https://www.ischiaeventi.com///NONSGML kigkonsult.se iCalcreator 2.10.15//
METHOD:PUBLISH
BEGIN:VEVENT
UID:20260424T023211UTC-34311JVUEt@https://www.ischiaeventi.com/
DTSTAMP:20260424T023211Z
DESCRIPTION:Live concert Valentina Canale\, balli di gruppo a cura di Giann
 i Canale https://www.ischiaeventi.com/eventi-ad-ischia/tradizioni/rapprese
 ntazioni-artistiche/evento/249908-live-concert-valentina-canale
DTSTART:20260425T190000Z
DTEND:20260425T203000Z
LOCATION:Comune di Barano (Via Corrado Buono\, 6\, 80070 Barano D'ischia NA
 \, Italia)
SUMMARY:Live concert Valentina Canale
URL:https://www.ischiaeventi.com/eventi-ad-ischia/tradizioni/rappresentazio
 ni-artistiche/evento/249908-live-concert-valentina-canale
END:VEVENT
END:VCALENDAR
