BEGIN:VCALENDAR
VERSION:2.0
PRODID:-//https://www.ischiaeventi.com///NONSGML kigkonsult.se iCalcreator 2.10.15//
METHOD:PUBLISH
BEGIN:VEVENT
UID:20260424T034725UTC-8515FvkBj8@https://www.ischiaeventi.com/
DTSTAMP:20260424T034725Z
DESCRIPTION:Faraoni e fiori. La meraviglia dei giardini dell'antico EgittoD
 ivina Centore\, Egittologa presso il Museo Egizio di TorinoDipartimento 'I
 nterpretazione\, Accessibilità e Condivisione' https://www.ischiaeventi.co
 m/eventi-ad-ischia/tradizioni/rappresentazioni-artistiche/evento/249833-pr
 ogetto-kepos-faraoni-e-fiori-la-meraviglia-dei-giardini-dellantico-egitto
DTSTART:20260829T180000Z
DTEND:20260829T200000Z
LOCATION:Giardini La Mortella (Via Francesco Calise\, 39 - 80075 Forio NA\,
  Italia)
SUMMARY:Progetto Kepos: Faraoni e fiori. La meraviglia dei giardini dell'an
 tico Egitto
URL:https://www.ischiaeventi.com/eventi-ad-ischia/tradizioni/rappresentazio
 ni-artistiche/evento/249833-progetto-kepos-faraoni-e-fiori-la-meraviglia-d
 ei-giardini-dellantico-egitto
END:VEVENT
END:VCALENDAR
