BEGIN:VCALENDAR
VERSION:2.0
PRODID:-//https://www.ischiaeventi.com///NONSGML kigkonsult.se iCalcreator 2.10.15//
METHOD:PUBLISH
BEGIN:VEVENT
UID:20260424T051247UTC-8300vGHEce@https://www.ischiaeventi.com/
DTSTAMP:20260424T051247Z
DESCRIPTION:La musica nel Teatro grecoMassimo Raffa\, Professore Associato 
 di Musicologia e Storia della Musicapresso il Dipartimento di Beni Cultura
 li dell'Università del Salento https://www.ischiaeventi.com/eventi-ad-isch
 ia/tradizioni/rappresentazioni-artistiche/evento/249832-progetto-kepos-la-
 musica-nel-teatro-greco
DTSTART:20260808T180000Z
DTEND:20260808T200000Z
LOCATION:Giardini La Mortella (Via Francesco Calise\, 39 - 80075 Forio NA\,
  Italia)
SUMMARY:Progetto Kepos: La musica nel Teatro greco
URL:https://www.ischiaeventi.com/eventi-ad-ischia/tradizioni/rappresentazio
 ni-artistiche/evento/249832-progetto-kepos-la-musica-nel-teatro-greco
END:VEVENT
END:VCALENDAR
