BEGIN:VCALENDAR
VERSION:2.0
PRODID:-//https://www.ischiaeventi.com///NONSGML kigkonsult.se iCalcreator 2.10.15//
METHOD:PUBLISH
BEGIN:VEVENT
UID:20260424T023844UTC-4140HGzjOU@https://www.ischiaeventi.com/
DTSTAMP:20260424T023844Z
DESCRIPTION:Il giardino dei Lumi e il valico dei confiniMassimo Visone\, Pr
 ofessore di Storia dell'architettura dell'Università Federico II di Napoli
  https://www.ischiaeventi.com/eventi-ad-ischia/tradizioni/rappresentazioni
 -artistiche/evento/249830-progetto-kepos-il-giardino-dei-lumi-e-il-valico-
 dei-confini
DTSTART:20260528T170000Z
DTEND:20260528T190000Z
LOCATION:Giardini La Mortella (Via Francesco Calise\, 39 - 80075 Forio NA\,
  Italia)
SUMMARY:Progetto Kepos: Il giardino dei Lumi e il valico dei confini
URL:https://www.ischiaeventi.com/eventi-ad-ischia/tradizioni/rappresentazio
 ni-artistiche/evento/249830-progetto-kepos-il-giardino-dei-lumi-e-il-valic
 o-dei-confini
END:VEVENT
END:VCALENDAR
