BEGIN:VCALENDAR
VERSION:2.0
PRODID:-//https://www.ischiaeventi.com///NONSGML kigkonsult.se iCalcreator 2.10.15//
METHOD:PUBLISH
BEGIN:VEVENT
UID:20260424T052346UTC-9510xEfZDV@https://www.ischiaeventi.com/
DTSTAMP:20260424T052346Z
DESCRIPTION:Organizzata dalla parrocchia San Leonardo\, in collaborazione c
 on l'associazione teatrale A.T.L.A.S. 97Patrocinio del Comune di ForioFoto
  realizzata da: Nicola Migliaccio Grafiche realizzate da: Sara Silvetta ht
 tps://www.ischiaeventi.com/eventi-ad-ischia/tradizioni/rappresentazioni-ar
 tistiche/evento/249727-via-crucis
DTSTART:20260328T193000Z
DTEND:20260328T213300Z
LOCATION:Panza (Piazza San Leonardo - 80075 Panza Forio)
SUMMARY:VIA CRUCIS
URL:https://www.ischiaeventi.com/eventi-ad-ischia/tradizioni/rappresentazio
 ni-artistiche/evento/249727-via-crucis
END:VEVENT
END:VCALENDAR
