BEGIN:VCALENDAR
VERSION:2.0
PRODID:-//https://www.ischiaeventi.com///NONSGML kigkonsult.se iCalcreator 2.10.15//
METHOD:PUBLISH
BEGIN:VEVENT
UID:20260424T060840UTC-4183UJg3Fc@https://www.ischiaeventi.com/
DTSTAMP:20260424T060840Z
DESCRIPTION:CATTURA LA LUNA - STORIA E COSTUME DI UNA FAMIGLIA ISCHITANA(Fr
 anco Di Mauro Editore - 2026)19 MARZO 2026ORE 17:00CASINA GINGERÒIN VILLA 
 ARBUSTO LACCO AMENΟ https://www.ischiaeventi.com/eventi-ad-ischia/tradizio
 ni/rappresentazioni-artistiche/evento/249646-presentazione-del-libro-di-mi
 ggi-calise
DTSTART:20260319T160000Z
DTEND:20260319T180000Z
LOCATION:Villa Arbusto (Corso Angelo Rizzoli\, 194\, 80076 Lacco Ameno NA\,
  Italia)
SUMMARY:Presentazione del libro di Miggi Calise
URL:https://www.ischiaeventi.com/eventi-ad-ischia/tradizioni/rappresentazio
 ni-artistiche/evento/249646-presentazione-del-libro-di-miggi-calise
END:VEVENT
END:VCALENDAR
