BEGIN:VCALENDAR
VERSION:2.0
PRODID:-//https://www.ischiaeventi.com///NONSGML kigkonsult.se iCalcreator 2.10.15//
METHOD:PUBLISH
BEGIN:VEVENT
UID:20260424T060037UTC-3761vcx4wo@https://www.ischiaeventi.com/
DTSTAMP:20260424T060037Z
DESCRIPTION:Ischia in passerella a cura di Daniela Scotti https://www.ischi
 aeventi.com/eventi-ad-ischia/tradizioni/rappresentazioni-artistiche/evento
 /249298-natale-a-ischia-ischia-in-passerella
DTSTART:20251214T150000Z
DTEND:20251214T190000Z
LOCATION:Palazzo Reale (Via Iasolino\, 18\, 80077 Ischia NA\, Italia)
SUMMARY:Natale a Ischia: Ischia in passerella
URL:https://www.ischiaeventi.com/eventi-ad-ischia/tradizioni/rappresentazio
 ni-artistiche/evento/249298-natale-a-ischia-ischia-in-passerella
END:VEVENT
END:VCALENDAR
