BEGIN:VCALENDAR
VERSION:2.0
PRODID:-//https://www.ischiaeventi.com///NONSGML kigkonsult.se iCalcreator 2.10.15//
METHOD:PUBLISH
BEGIN:VEVENT
UID:20260424T053018UTC-4723dVhfJP@https://www.ischiaeventi.com/
DTSTAMP:20260424T053018Z
DESCRIPTION:15.30 Un Magico Natale spettacolo danzante a cura de La Magia d
 ella Danza in Piazza San Leonardo Panza 19.30 Festa di Santa Lucia per ono
 rare e festeggiare la Santa nel caratteristico borgo di Santa Lucia a cura
  della Parrocchia di San&nbsp\;Michele Arcangelo https://www.ischiaeventi.
 com/eventi-ad-ischia/tradizioni/rappresentazioni-artistiche/evento/249294-
 copia-da-natale-a-forio-2025-un-magico-natale-spettacolo-danzante
DTSTART:20251213T143000Z
DTEND:20251213T170000Z
LOCATION:Comune di Forio (Piazza Municipio\, 1\, 80075 Forio NA\, Italia)
SUMMARY:Copia da Natale a Forio 2025: Un Magico Natale spettacolo danzante
URL:https://www.ischiaeventi.com/eventi-ad-ischia/tradizioni/rappresentazio
 ni-artistiche/evento/249294-copia-da-natale-a-forio-2025-un-magico-natale-
 spettacolo-danzante
END:VEVENT
END:VCALENDAR
