BEGIN:VCALENDAR
VERSION:2.0
PRODID:-//https://www.ischiaeventi.com///NONSGML kigkonsult.se iCalcreator 2.10.15//
METHOD:PUBLISH
BEGIN:VEVENT
UID:20260424T060231UTC-5083hL4gf1@https://www.ischiaeventi.com/
DTSTAMP:20260424T060231Z
DESCRIPTION:Ore 22:00 – Piazza Antica ReggiaGrande Veglione di Capodanno co
 n Marco Ligabue. Un evento che accompagna la città verso il nuovo anno. ht
 tps://www.ischiaeventi.com/eventi-ad-ischia/tradizioni/rappresentazioni-ar
 tistiche/evento/249280-natale-a-ischia-grande-veglione-di-capodanno-con-ma
 rco-ligabue
DTSTART:20251231T210000Z
DTEND:20251231T225900Z
LOCATION:Piazza Antica Reggia (Piazza Antica Reggia\, 16\, 80077 Ischia NA\
 , Italia)
SUMMARY:Natale a Ischia: Grande Veglione di Capodanno con Marco Ligabue
URL:https://www.ischiaeventi.com/eventi-ad-ischia/tradizioni/rappresentazio
 ni-artistiche/evento/249280-natale-a-ischia-grande-veglione-di-capodanno-c
 on-marco-ligabue
END:VEVENT
END:VCALENDAR
