BEGIN:VCALENDAR
VERSION:2.0
PRODID:-//https://www.ischiaeventi.com///NONSGML kigkonsult.se iCalcreator 2.10.15//
METHOD:PUBLISH
BEGIN:VEVENT
UID:20260424T135430UTC-6850LL3DcM@https://www.ischiaeventi.com/
DTSTAMP:20260424T135430Z
DESCRIPTION:'Il Natale del borgo'&nbsp\;a cura dell'Associazione Gertrud St
 reicher https://www.ischiaeventi.com/eventi-ad-ischia/tradizioni/rappresen
 tazioni-artistiche/evento/249207-natale-a-serrara-il-natale-del-borgo
DTSTART:20251214T140000Z
DTEND:20251214T170000Z
LOCATION:Succhivo (Provinciale Succhivo Sant'Angelo\, 21-27\, 80070 Sant'An
 gelo NA\, Italy)
SUMMARY:Natale a Serrara: 'Il Natale del borgo'
URL:https://www.ischiaeventi.com/eventi-ad-ischia/tradizioni/rappresentazio
 ni-artistiche/evento/249207-natale-a-serrara-il-natale-del-borgo
END:VEVENT
END:VCALENDAR
