BEGIN:VCALENDAR
VERSION:2.0
PRODID:-//https://www.ischiaeventi.com///NONSGML kigkonsult.se iCalcreator 2.10.15//
METHOD:PUBLISH
BEGIN:VEVENT
UID:20260424T110035UTC-2089bitD07@https://www.ischiaeventi.com/
DTSTAMP:20260424T110035Z
DESCRIPTION:18.30 Jack\, il Re delle Zucche musical degli Allievi del Corso
  di Musical dell’Accademia musicale Note sul Mare nel Chiostro di San Fran
 cesco in Piazza Municipio&nbsp\; https://www.ischiaeventi.com/eventi-ad-is
 chia/tradizioni/rappresentazioni-artistiche/evento/249089-natale-a-forio-2
 025-jack-il-re-delle-zucche-musical
DTSTART:20251217T173000Z
DTEND:20251217T200000Z
LOCATION:Chiostro S. Francesco (Rione Pescatori\, 2\, 80075 Forio NA\, Ital
 ia)
SUMMARY:Natale a Forio 2025: Jack\, il Re delle Zucche musical
URL:https://www.ischiaeventi.com/eventi-ad-ischia/tradizioni/rappresentazio
 ni-artistiche/evento/249089-natale-a-forio-2025-jack-il-re-delle-zucche-mu
 sical
END:VEVENT
END:VCALENDAR
