BEGIN:VCALENDAR
VERSION:2.0
PRODID:-//https://www.ischiaeventi.com///NONSGML kigkonsult.se iCalcreator 2.10.15//
METHOD:PUBLISH
BEGIN:VEVENT
UID:20260424T060028UTC-1303AVtvds@https://www.ischiaeventi.com/
DTSTAMP:20260424T060028Z
DESCRIPTION:Ore 12:00 – Spiaggia di San PietroTuffo di Capodanno\, un tradi
 zionale bagno beneaugurante organizzato da E Cap Fresch. https://www.ischi
 aeventi.com/eventi-ad-ischia/tradizioni/rappresentazioni-artistiche/evento
 /249076-natale-a-ischia-tuffo-di-capodanno
DTSTART:20260101T110000Z
DTEND:20260101T135900Z
LOCATION:Spiaggia San Pietro\, Ischia (Via Francesco Buonocore\, 80077 Isch
 ia NA\, Italia)
SUMMARY:Natale a Ischia: Tuffo di Capodanno
URL:https://www.ischiaeventi.com/eventi-ad-ischia/tradizioni/rappresentazio
 ni-artistiche/evento/249076-natale-a-ischia-tuffo-di-capodanno
END:VEVENT
END:VCALENDAR
