BEGIN:VCALENDAR
VERSION:2.0
PRODID:-//https://www.ischiaeventi.com///NONSGML kigkonsult.se iCalcreator 2.10.15//
METHOD:PUBLISH
BEGIN:VEVENT
UID:20260424T085134UTC-2166Xsvgfj@https://www.ischiaeventi.com/
DTSTAMP:20260424T085134Z
DESCRIPTION:Ogni DomenicaDalle ore 18:00 alle 21:00 - Corso Francesco Regin
 eDalle ore 18:00 alle 24:00 - Via MarinaVivi l'atmosfera unica di Forio\, 
 tra musica live\, sapori locali e tanta voglia di stare insieme! https://w
 ww.ischiaeventi.com/eventi-ad-ischia/tradizioni/rappresentazioni-artistich
 e/evento/248944-la-domenica-foriana
DTSTART:20251116T170000Z
DTEND:20251116T200000Z
LOCATION:Comune di Forio (Piazza Municipio\, 1\, 80075 Forio NA\, Italia)
SUMMARY:La domenica Foriana
URL:https://www.ischiaeventi.com/eventi-ad-ischia/tradizioni/rappresentazio
 ni-artistiche/evento/248944-la-domenica-foriana
END:VEVENT
END:VCALENDAR
