BEGIN:VCALENDAR
VERSION:2.0
PRODID:-//https://www.ischiaeventi.com///NONSGML kigkonsult.se iCalcreator 2.10.15//
METHOD:PUBLISH
BEGIN:VEVENT
UID:20260424T094536UTC-5824RbD5TG@https://www.ischiaeventi.com/
DTSTAMP:20260424T094536Z
DESCRIPTION:FESTA DELLA BIRRA https://www.ischiaeventi.com/eventi-ad-ischia
 /tradizioni/rappresentazioni-artistiche/evento/124236-estate-forio-2025-fe
 sta-della-birra
DTSTART:20250809T183000Z
DTEND:20250809T215900Z
LOCATION:Panza (Piazza San Leonardo - 80075 Panza Forio)
SUMMARY:Estate Forio 2025: FESTA DELLA BIRRA
URL:https://www.ischiaeventi.com/eventi-ad-ischia/tradizioni/rappresentazio
 ni-artistiche/evento/124236-estate-forio-2025-festa-della-birra
END:VEVENT
END:VCALENDAR
