BEGIN:VCALENDAR
VERSION:2.0
PRODID:-//https://www.ischiaeventi.com///NONSGML kigkonsult.se iCalcreator 2.10.15//
METHOD:PUBLISH
BEGIN:VEVENT
UID:20260420T130858UTC-0479T7SFc9@https://www.ischiaeventi.com/
DTSTAMP:20260420T130858Z
DESCRIPTION:“Via Crucis\, il mondo continua” organizzata dalla Parrocchia S
  Leonardo e dalla “Compagnia Teatrale San Leonardo” https://www.ischiaeven
 ti.com/eventi-ad-ischia/tradizioni/gastronomia/evento/68803-vigilia-domeni
 ca-delle-palme
DTSTART:20250412T183000Z
DTEND:20250412T200000Z
LOCATION:Piazza Municipio\, Forio (Piazza Municipio\, 9\, 80075 Forio NA\, 
 Italia)
SUMMARY: 𝐕𝐈𝐆𝐈𝐋𝐈𝐀 𝐃𝐎𝐌𝐄𝐍𝐈𝐂𝐀 𝐃𝐄𝐋𝐋𝐄 𝐏𝐀𝐋𝐌𝐄
URL:https://www.ischiaeventi.com/eventi-ad-ischia/tradizioni/gastronomia/ev
 ento/68803-vigilia-domenica-delle-palme
END:VEVENT
END:VCALENDAR
