BEGIN:VCALENDAR
VERSION:2.0
PRODID:-//https://www.ischiaeventi.com///NONSGML kigkonsult.se iCalcreator 2.10.15//
METHOD:PUBLISH
BEGIN:VEVENT
UID:20260420T112324UTC-33142RDczp@https://www.ischiaeventi.com/
DTSTAMP:20260420T112324Z
DESCRIPTION:Centro di Forio - dalle ore 15.30\nUn coloratissimo corteo da P
 iazza Maltese a Piazza San Gaetano con giocolieri\, clown\, mascherine e s
 pettacoli itineranti.\nDalle ore 19.00 DJ set con Michelle B per continuar
 e la festa con tanta musica! https://www.ischiaeventi.com/eventi-ad-ischia
 /tradizioni/gastronomia/evento/44695-aspettando-carnevale
DTSTART:20250303T143000Z
DTEND:20250303T170000Z
LOCATION:Vico San Gaetano\, Forio (Via Cesare Piro\, 10\, 80075 Forio NA\, 
 Italia)
SUMMARY:Aspettando Carnevale
URL:https://www.ischiaeventi.com/eventi-ad-ischia/tradizioni/gastronomia/ev
 ento/44695-aspettando-carnevale
END:VEVENT
END:VCALENDAR
