BEGIN:VCALENDAR
VERSION:2.0
PRODID:-//https://www.ischiaeventi.com///NONSGML kigkonsult.se iCalcreator 2.10.15//
METHOD:PUBLISH
BEGIN:VEVENT
UID:20260420T114849UTC-8837ClFA3v@https://www.ischiaeventi.com/
DTSTAMP:20260420T114849Z
DESCRIPTION:Ore 10.00 Santa MessaOre 18.00 Raduno in piazza e benedizione d
 elle candele\, processione in chiesa e Santa Messa https://www.ischiaevent
 i.com/eventi-ad-ischia/tradizioni/gastronomia/evento/41550-festeggiamenti-
 in-onore-di-san-ciro-festa-della-presentazione-di-gesu-bambino-al-tempio
DTSTART:20250202T090000Z
DTEND:20250202T120000Z
LOCATION:Località Il Ciglio - Ischia (Via Ciglio\, 126\, 80070 Serrara Font
 ana NA\, Italia)
SUMMARY:Festeggiamenti in onore di San Ciro: FESTA DELLA PRESENTAZIONE DI G
 ESÙ BAMBINO AL TEMPIO
URL:https://www.ischiaeventi.com/eventi-ad-ischia/tradizioni/gastronomia/ev
 ento/41550-festeggiamenti-in-onore-di-san-ciro-festa-della-presentazione-d
 i-gesu-bambino-al-tempio
END:VEVENT
END:VCALENDAR
