BEGIN:VCALENDAR
VERSION:2.0
PRODID:-//https://www.ischiaeventi.com///NONSGML kigkonsult.se iCalcreator 2.10.15//
METHOD:PUBLISH
BEGIN:VEVENT
UID:20260420T112729UTC-9148N7Euuo@https://www.ischiaeventi.com/
DTSTAMP:20260420T112729Z
DESCRIPTION:ASPETTANDO LA BEFANA tante attività e spettacoli allieteranno l
 a grande attesa dei più piccini per il Corso di Forio https://www.ischiaev
 enti.com/eventi-ad-ischia/tradizioni/gastronomia/evento/34331-forio-merryl
 and-aspettando-la-befana
DTSTART:20250105T143000Z
DTEND:20250105T165900Z
LOCATION:Comune di Forio (Piazza Municipio\, 1\, 80075 Forio NA\, Italia)
SUMMARY:Forio MerryLand: ASPETTANDO LA BEFANA
URL:https://www.ischiaeventi.com/eventi-ad-ischia/tradizioni/gastronomia/ev
 ento/34331-forio-merryland-aspettando-la-befana
END:VEVENT
END:VCALENDAR
