BEGIN:VCALENDAR
VERSION:2.0
PRODID:-//https://www.ischiaeventi.com///NONSGML kigkonsult.se iCalcreator 2.10.15//
METHOD:PUBLISH
BEGIN:VEVENT
UID:20260420T112851UTC-8705ZOffF6@https://www.ischiaeventi.com/
DTSTAMP:20260420T112851Z
DESCRIPTION:XMAS DRAGODI evento settimanale del calendario dedicato agli ap
 passionati di giochi da tavolo e giochi di ruolo nel Salone di San Michele
  in Monterone Forio https://www.ischiaeventi.com/eventi-ad-ischia/tradizio
 ni/gastronomia/evento/34300-forio-merryland-xmas-dragodi
DTSTART:20250103T190000Z
DTEND:20250103T215900Z
LOCATION:Comune di Forio (Piazza Municipio\, 1\, 80075 Forio NA\, Italia)
SUMMARY:Forio MerryLand: XMAS DRAGODI
URL:https://www.ischiaeventi.com/eventi-ad-ischia/tradizioni/gastronomia/ev
 ento/34300-forio-merryland-xmas-dragodi
END:VEVENT
END:VCALENDAR
