BEGIN:VCALENDAR
VERSION:2.0
PRODID:-//https://www.ischiaeventi.com///NONSGML kigkonsult.se iCalcreator 2.10.15//
METHOD:PUBLISH
BEGIN:VEVENT
UID:20260420T113015UTC-3656fn0Kvr@https://www.ischiaeventi.com/
DTSTAMP:20260420T113015Z
DESCRIPTION:CANTINANDO A NATALE visite guidate nelle antiche cantine ischit
 ane con degustazioni di prodotti tipici della tradizione natalizia nel car
 atteristico borgo di Panza https://www.ischiaeventi.com/eventi-ad-ischia/t
 radizioni/gastronomia/evento/34292-forio-merryland-cantinando-a-natale
DTSTART:20241231T110000Z
DTEND:20241231T130000Z
LOCATION:Comune di Forio (Piazza Municipio\, 1\, 80075 Forio NA\, Italia)
SUMMARY:Forio MerryLand: CANTINANDO A NATALE 
URL:https://www.ischiaeventi.com/eventi-ad-ischia/tradizioni/gastronomia/ev
 ento/34292-forio-merryland-cantinando-a-natale
END:VEVENT
END:VCALENDAR
