BEGIN:VCALENDAR
VERSION:2.0
PRODID:-//https://www.ischiaeventi.com///NONSGML kigkonsult.se iCalcreator 2.10.15//
METHOD:PUBLISH
BEGIN:VEVENT
UID:20260420T142830UTC-10196LpuDU@https://www.ischiaeventi.com/
DTSTAMP:20260420T142830Z
DESCRIPTION:PRESEPE VIVENTE XI Edizione suggestiva scena della natività con
  allestimento di antiche botteghe in ricordo di vecchi mestieri e tradizio
 ni nel centro di Panza&nbsp\; https://www.ischiaeventi.com/eventi-ad-ischi
 a/tradizioni/gastronomia/evento/34281-forio-merryland-presepe-vivente-xi-e
 dizione
DTSTART:20241229T150000Z
DTEND:20241229T170000Z
LOCATION:Comune di Forio (Piazza Municipio\, 1\, 80075 Forio NA\, Italia)
SUMMARY:Forio MerryLand: PRESEPE VIVENTE XI Edizione
URL:https://www.ischiaeventi.com/eventi-ad-ischia/tradizioni/gastronomia/ev
 ento/34281-forio-merryland-presepe-vivente-xi-edizione
END:VEVENT
END:VCALENDAR
